BEGIN:VCALENDAR
VERSION:2.0
PRODID:-//International Organization for Medical Physics - ECPv6.15.20//NONSGML v1.0//EN
CALSCALE:GREGORIAN
METHOD:PUBLISH
X-WR-CALNAME:International Organization for Medical Physics
X-ORIGINAL-URL:https://www.iomp.org
X-WR-CALDESC:Events for International Organization for Medical Physics
REFRESH-INTERVAL;VALUE=DURATION:PT1H
X-Robots-Tag:noindex
X-PUBLISHED-TTL:PT1H
BEGIN:VTIMEZONE
TZID:UTC
BEGIN:STANDARD
TZOFFSETFROM:+0000
TZOFFSETTO:+0000
TZNAME:UTC
DTSTART:20220101T000000
END:STANDARD
END:VTIMEZONE
BEGIN:VEVENT
DTSTART;VALUE=DATE:20240411
DTEND;VALUE=DATE:20240415
DTSTAMP:20260424T202053
CREATED:20231127T161721Z
LAST-MODIFIED:20231127T161721Z
UID:20862-1712793600-1713139199@www.iomp.org
SUMMARY:JRC and JSMP 2024
DESCRIPTION:JRC and JSMP 2024\nDate: Apr 11-14\, 2024 \nVenue: Yokohama\, Japan
URL:https://www.iomp.org/event/jrc-and-jsmp-2024/
LOCATION:Yokohama\, Japan
END:VEVENT
BEGIN:VEVENT
DTSTART;VALUE=DATE:20240315
DTEND;VALUE=DATE:20240317
DTSTAMP:20260424T202053
CREATED:20231211T095135Z
LAST-MODIFIED:20231211T095135Z
UID:20991-1710460800-1710633599@www.iomp.org
SUMMARY:Breathing control for motion management in radiotherapy and imaging
DESCRIPTION:Start Date: Mar 15th\, 2024 00:00 \nEnd Date: Mar 16th\, 2024 00:00 \nURL: https://breathmotioninrt.com/ \nLocation: Amsterdam \n \nWe are excited to announce this first ever special international symposium about respiratory motion management in radiotherapy and imaging. Organ motion due to breathing hampers accurate radiotherapy in the thoracic and upper abdominal region\, and requires generous margins. Respiratory motion management is also an increasingly important topic in (diagnostic) imaging. Besides technical solutions such as tracking and gating\, non-invasive breathing control using ventilators is getting more awareness over the last years. \nWith this symposium we aim to bring together an international audience with interest in and/or expertise regarding non-invasive breathing control of conscious patients. \nDuring this symposium we will discuss how to\n\nexplore critical hidden pathways: a new look at optimal respiratory motion management;\ncombine external and internal fixation – a new paradigm for radiotherapy;\ndiscover novel non-invasive immobilization of the breathing patient;\nlearn how to redistribute normal lung tissue\, fixate the chest wall\, diaphragm\, tumor and surrounding organs-at-risk;.\nachieve faster treatment times than with tracking or gating;\nreduce motion of moving targets with simple and robust solutions.\n\nTopics of interest include\n\nadministration and safety of supplemental  (e.g. 60%) oxygen;\nnon-invasive mechanical ventilation to regularize breathing or to breath hold;\ncombinations of non-invasive mechanical ventilation with tracking or gating;\nother techniques to regularize breathing;\npotential application for particle and proton therapy;\nimprovement of image quality and artifact reduction with MRI\, CT or PET.\n\n  \nAudience\nClinicians\, radiation therapists (RTTs)\, physicists\, physiologists\, anesthetists\, intensivists or any other discipline involved in radiation treatment and/or imaging. \nSubscription \nLocation\nAmsterdam University Medical Centre\, location AMC \nAdress: Meibergdreef 9\, 1105 AZ Amsterdam \nFormat\nA number of invited speakers will give an extensive overview of the status of the field\, both from a fundamental and an applied clinical perspective. A live demonstration with a volunteer is being prepared to show the application of breathing control management with non-invasive mechanical ventilation. Industrial partners are invited to showcase their interest and developments. There will be ample opportunity for networking with social activities\, including a diner and boat trip in Amsterdam. \nOrganizing committee\nProf. dr. Zvi Symon\, MD\, Sheba Medical Center\, Tel Aviv \nDr. Irma van Dijk\, Amsterdam UMC\, Amsterdam \nDr. Michael Parkes\, Amsterdam UMC\, Amsterdam \nProf. dr. Arjan Bel\, Amsterdam UMC\, Amsterdam
URL:https://www.iomp.org/event/breathing-control-for-motion-management-in-radiotherapy-and-imaging/
LOCATION:Amsterdam University Medical Centre\, Netherlands
END:VEVENT
BEGIN:VEVENT
DTSTART;VALUE=DATE:20240228
DTEND;VALUE=DATE:20240304
DTSTAMP:20260424T202053
CREATED:20231211T102226Z
LAST-MODIFIED:20231211T102226Z
UID:21014-1709078400-1709510399@www.iomp.org
SUMMARY:ECR 2024 – European Congress of Radiology
DESCRIPTION:Date: 28 February to 3 March 2024 \nVenue: Vienna\, Austria
URL:https://www.iomp.org/event/ecr-2024-european-congress-of-radiology/
LOCATION:Vienna\, Austria
END:VEVENT
BEGIN:VEVENT
DTSTART;VALUE=DATE:20240216
DTEND;VALUE=DATE:20240218
DTSTAMP:20260424T202053
CREATED:20231211T082839Z
LAST-MODIFIED:20231211T082839Z
UID:20985-1708041600-1708214399@www.iomp.org
SUMMARY:QA & Dosimetry Symposium
DESCRIPTION:Start Date: Feb 16th\, 2024 08:45 \nEnd Date: Feb 17th\, 2024 16:45 \nURL: https://www.qasymposium.com/ \nLocation: Lisbon\, Portugal \n \nThe 14th installment of QADS returns in 2024\, with a new European destination — Lisbon\, Portugal. \n  \nQADS is the only event for Medical Physicists and Dosimetrists that brings leading clinical innovators together to discuss the latest practices and issues related to QA and Dosimetry in Radiation Oncology. Over two days\, attendees will gain clinical insights from colleagues practicing worldwide\, while earning continuing education credits. \n  \nFull program listed on website: qasymposium.com \n  \nSession topics will span: \n\nChallenges in Safety & Quality Control\nEPID-Based In-Vivo Dosimetry\nThe Era of AI & Innovation\nQA & Dosimetry for New Treatment Modalities\nNovel QA Methods for QA for SRS/SBRT and SIMT
URL:https://www.iomp.org/event/qa-dosimetry-symposium/
LOCATION:Lisbon\, Portugal
END:VEVENT
BEGIN:VEVENT
DTSTART;VALUE=DATE:20240206
DTEND;VALUE=DATE:20240211
DTSTAMP:20260424T202053
CREATED:20231127T155923Z
LAST-MODIFIED:20231127T155923Z
UID:20839-1707177600-1707609599@www.iomp.org
SUMMARY:European School for Medical Physics Experts (ESMPE) | Uncertainty analyses and Statistical methods in Medical Physics
DESCRIPTION:European School for Medical Physics Experts (ESMPE) | Uncertainty analyses and Statistical methods in Medical Physics\n\nFeb 6th\, 2024 – Feb 10th\, 2024   \nPrague\, Czech Republic & online
URL:https://www.iomp.org/event/european-school-for-medical-physics-experts-esmpe-uncertainty-analyses-and-statistical-methods-in-medical-physics/
LOCATION:Prague\, Czech Republic
END:VEVENT
BEGIN:VEVENT
DTSTART;TZID=UTC:20240124T120000
DTEND;TZID=UTC:20240124T130000
DTSTAMP:20260424T202053
CREATED:20231211T094840Z
LAST-MODIFIED:20231211T094840Z
UID:20989-1706097600-1706101200@www.iomp.org
SUMMARY:IOMP Webinar: From Pixels to Patients: The Influence of Gaming and Smartphone Developments on Radiation Oncology
DESCRIPTION:24 January 2024 at 12 pm GMT; Duration 1 hour \nRegister here \nTo check the corresponding time in your country please check this link:\nhttps://greenwichmeantime.com/time-gadgets/time-zone-converter/ \nOrganizer: Eva Bezak \nModerator: Eva Bezak \nTitle: From Pixels to Patients: The Influence of Gaming and Smartphone Developments on Radiation Oncology \nSpeaker: Dr Michael Douglass\, Royal Adelaide Hospital\, Adelaide\, Australia \n \nDr. Michael Douglass is a principal medical physicist at the Royal Adelaide Hospital where he oversees treatment planning systems and planning support services. He also works part-time at the Australian Bragg Centre for Proton Therapy and Research where he contributes to proton therapy comparative planning and research. In addition\, Dr. Douglass holds an academic role at the University of Adelaide\, supervising Ph.D. and master’s student research. His expertise spans across a multitude of research areas\, including proton therapy\, Monte Carlo simulations\, machine learning and 3D printing in radiation oncology\, which is reflected in his 40+ peer-reviewed publications. Dr. Douglass’s notable contributions to the field have earned him multiple awards such as the 2021 Simpson Prize for Cancer Research and the 2021 ACPSEM Boyce Worthley Young Achiever Award. \nAbstract: \nIn this presentation\, we will explore how advancements in various industries\, including the movie\, video game\, and smartphone industries\, have contributed to the progress of radiation oncology. We will discuss how developments such as visual effects in the movie industry have paved the way for the creation of synthetic training data for machine learning models in radiation oncology. Additionally\, we will examine how the smartphone industry has enabled new methods of 3D scanning patients for treatments like TBI\, TSET\, Brachytherapy\, and 3D printed bolus\, thanks to technologies like Gaussian platting\, NERF\, LiDAR\, and iPhone capabilities. The integration of augmented reality in the video game industry has revolutionized the visualization of medical imaging data\, providing volumetric views and assisting in breath hold coaching. We will also explore the impact of GPU technology on deep learning segmentation\, auto planning\, and accelerated dose calculations\, as well as the potential of large language models like Llama 2 and GPT in education and automated patient record transcription. Through these examples\, we will highlight the interconnectedness of these industries with radiation oncology and the ongoing advancements they bring to the field. \nLearning Objectives: \n\nGain an understanding of the advancements in optical scanning technologies\, including LiDAR\, photogrammetry\, and NERF\, and their applications in radiation oncology.\nUnderstand how consumer technologies\, such as smartphones and gaming\, have contributed to the progress of radiation oncology and medicine as a whole.\nLearn about the benefits and potential applications of large language models\, like Llama 2 and GPT\, in radiation oncology\, including education and automated patient record transcription.\nExamine the integration of visual effects in the movie industry and its influence on the creation of synthetic training data for machine learning models in radiation oncology.\nUnderstand the impact of augmented reality in the video game industry on the visualization of medical imaging data and its role in assisting in breath hold coaching.
URL:https://www.iomp.org/event/iomp-webinar-from-pixels-to-patients-the-influence-of-gaming-and-smartphone-developments-on-radiation-oncology/
CATEGORIES:IOMP School Webinar 2024
END:VEVENT
BEGIN:VEVENT
DTSTART;TZID=UTC:20231219T120000
DTEND;TZID=UTC:20231219T130000
DTSTAMP:20260424T202053
CREATED:20231125T103031Z
LAST-MODIFIED:20231125T103619Z
UID:20656-1702987200-1702990800@www.iomp.org
SUMMARY:IOMP Webinar: IOMP’s Focus: Early Career in Medical Physics and the most recent trends in diagnostic imaging and radiotherapy
DESCRIPTION:19 December 2023 at 12 pm GMT; Duration 1 hour \nRegister here \nTo check the corresponding time in your country please check this link: \nhttps://greenwichmeantime.com/time-gadgets/time-zone-converter/ \n\n\n\nOrganizer: M Stoeva\nModerator: KH Ng\nSpeakers: Tan Hong Qi & Choirul Anam\, IUPAP Early Career in Medical Physics awardees \n\n\nTitle: Impact of dispersive proton beam on reference dosimetry in a synchrotron spot scanning system \n  \nDr Tan Hong Qi is currently a senior medical physicist in National Cancer Centre of Singapore (NCCS) and is also a clinical instructor in Duke-NUS medical School. He received his PhD from National University of Singapore and completed his residency in NCCS. He is active in both the radiotherapy research and education in Singapore for which he was recognized with institutional level awards and recent SEAFOMP young leader award. His current research interests are the application of AI in radiotherapy\, adaptive radiotherapy\, and proton therapy. \nAbstract: \nWe have recently commissioned the largest proton therapy center in Singapore and have treated more than 30 patients over the last 4 months after the first clinical start date. This talk will share some of our commissioning experience with Hitachi ProBeat proton therapy which is a spot scanning synchrotron delivery system. In particular\, we will report the observation of a large fluctuation in reference dosimetry measurement with a square field and an ion chamber measurement at the plateau region of a monoenergetic proton beam. An investigative journey reveal that the fluctuation originated from the dispersion in the proton beam. This accelerator physics term will be introduced\, and we will show for the first time\, the feasibility of measuring it in the clinic. \n\n\nTitle: Automated dose and image quality measurements from clinical CT images for CT optimization \n \nDr. Choirul Anam completed his Ph.D at Physics Department\, Bandung Institute of Technology (ITB).  He received Master degree from University of Indonesia (UI) and the B.Sc degree in physics from Diponegoro University (UNDIP). He is currently working as a Lecturer and Researcher in the UNDIP. His research interests are medical image processing and dosimetry for diagnostic radiology\, particularly in CT. He has authored and co-authored over 200 papers. In the last ten years\, he was the first author over 50 papers. One of his papers published in the Journal of Applied Clinical Medical Physics had been awarded as the Best Medical Imaging Physics Article in 2016. He received the Best Paper Award during 15th South East Asian Congress of Medical Physics (SEACOMP). He was also recognised as an Outstanding Reviewer for Physics in Medicine and Biology in 2018 and for Biomedical Physics and Engineering Express in 2019. He was also awarded as the SEAFOMP Young Leader Awards 2019 for his contribution in CT dosimetry and image quality from the South East Asian Federation of Organizations for Medical Physics (SEAFOMP). He is developer of two software\, i.e. IndoseCT and IndoQCT (www.indosect.com). \nAbstract: \nRecent studies revealed that computed tomography (CT) scanning poses a potential cancer risk in patients. Although the risk is considered much smaller than the benefits of CT scanning to accurately diagnose patient abnormalities\, the CT examination must be optimized. In radiation optimization\, an image of sufficient quality to diagnose the patient must be achieved with the smallest possible dose. Up until now\, image quality and radiation dose were usually evaluated using a standard phantom of standardized characteristic. The evaluation of image quality and radiation dose using the standard phantom is very good for assessing dependency on controllable variables\, such as tube currents\, tube voltage\, pitch\, reconstruction filter\, and beam width. However\, they are also influenced by uncontrollable variables\, such as body size and body region. For optimization purposes\, the controllable and uncontrollable variables must be considered simultaneously. This talk will discuss methods of automated image quality (noise and spatial resolution) and patient dose (i.e. size-specific dose estimate (SSDE)) directly from image of patient.
URL:https://www.iomp.org/event/iomp-webinar-iomps-focus-early-career-in-medical-physics-and-the-most-recent-trends-in-diagnostic-imaging-and-radiotherapy/
CATEGORIES:IOMP School Webinar 2023
END:VEVENT
BEGIN:VEVENT
DTSTART;VALUE=DATE:20231214
DTEND;VALUE=DATE:20231216
DTSTAMP:20260424T202053
CREATED:20231127T155752Z
LAST-MODIFIED:20231127T155752Z
UID:20835-1702512000-1702684799@www.iomp.org
SUMMARY:Hybrid Scientific Workshop on Adaptive Radiation Therapy
DESCRIPTION:Hybrid Scientific Workshop on Adaptive Radiation Therapy\nDec 14th\, 2023 – Dec 15th\, 2023   \nonline via zoom OR Clínica Alemana Santiago (CAS) in Santiago de Chile
URL:https://www.iomp.org/event/hybrid-scientific-workshop-on-adaptive-radiation-therapy/
LOCATION:Clínica Alemana Santiago (CAS)\, Santiago de Chile\, Chile
END:VEVENT
BEGIN:VEVENT
DTSTART;TZID=UTC:20231211T080000
DTEND;TZID=UTC:20231211T170000
DTSTAMP:20260424T202053
CREATED:20231211T101412Z
LAST-MODIFIED:20231211T101412Z
UID:21008-1702281600-1702314000@www.iomp.org
SUMMARY:School of Hadron Radiotherapy
DESCRIPTION:Date: 8-12 Apr 2024\n\n\n\nVenue: Giambiagi Lecture Hall (AGH)\, Adriatico Guest House\, ICTP\, Trieste\, Italy\n\n\nCourse providing specialized education and training on development and implementation of hadron radiotherapy and accelerator technology. Designed for medical physicists in clinical roles with ambition to learn about newest technological developments in radiotherapy. \nThis course equips medical physicists with advanced skills in hadron radiotherapy and accelerator technology. Focusing on both practical and theoretical aspects\, it covers several important topics. These include the physics of particle accelerators\, offering a comprehensive understanding of the advanced technologies driving this field\, radiobiology for particle therapy\, providing insights into the biological effects of ionizing radiation— crucial for effective and safe treatments. Participants will learn about dosimetry\, dose calculation algorithms\, radiation protection in ion radiotherapy facilities and engage in hands-on treatment planning exercises using RayStation TPS. This course is a gateway to mastering the latest technological advancements in radiotherapy\, equipping medical physicists with the knowledge and skills to excel in the evolving landscape of cancer treatment. \nTopics\n\nPhysics of Particle Accelerators\nRadiobiology for Particle Therapy\nDosimetry and Dose Computation of Particle Beams\nRadiation Protection for Ion Radiotherapy Facilities\nHands-on Exercises: Treatment Planning with RayStation TPS\n\n\nCall for Contributed Abstracts: All applicants are encouraged to submit an abstract for a poster/oral presentation. Abstract templates are available below for download. \nGrants: A limited number of grants are available to support the attendance of selected participants\, with priority given to participants from developing countries. There is no registration fee.
URL:https://www.iomp.org/event/school-of-hadron-radiotherapy/
END:VEVENT
BEGIN:VEVENT
DTSTART;VALUE=DATE:20231206
DTEND;VALUE=DATE:20231210
DTSTAMP:20260424T202053
CREATED:20231125T102212Z
LAST-MODIFIED:20231125T102257Z
UID:20642-1701820800-1702166399@www.iomp.org
SUMMARY:ICMP 2023
DESCRIPTION:25th International Conference on Medical Physics (ICMP) is the triennial conference of the International Organization for Medical Physics (IOMP). This year ICMP is jointly organized by the Association of Medical Physicists of India (AMPI)\, IOMP\, Asia-Oceania Federation of Organizations for Medical Physics (AFOMP)\, and South-East Asia Federation of Organizations for Medical Physics (SEAFOMP). The 44th Annual Conference of AMPI (AMPICON-2023)\, 23rd Asia Oceania Congress on Medical Physics (AOCMP-2023) and International South-East Asian Congress on Medical Physics 2023 (ISEACOMP 2023) will also be held along with ICMP-2023.
URL:https://www.iomp.org/event/icmp-2023/
LOCATION:DAE Convention Centre\, Mumbai\, DAE Convention Centre\, Anushaktinagar\, Mumbai\, India
CATEGORIES:ICMP 2023
END:VEVENT
BEGIN:VEVENT
DTSTART;VALUE=DATE:20231205
DTEND;VALUE=DATE:20231208
DTSTAMP:20260424T202053
CREATED:20231127T155258Z
LAST-MODIFIED:20231127T155258Z
UID:20822-1701734400-1701993599@www.iomp.org
SUMMARY:5th Targeted Radiopharmaceuticals Summit EU 2023
DESCRIPTION:5th Targeted Radiopharmaceuticals Summit EU 2023\nDec 5th\, 2023 – Dec 7th\, 2023   \nBerlin\, Germany
URL:https://www.iomp.org/event/5th-targeted-radiopharmaceuticals-summit-eu-2023/
LOCATION:Berlin\, Germany
END:VEVENT
BEGIN:VEVENT
DTSTART;VALUE=DATE:20231205
DTEND;VALUE=DATE:20231206
DTSTAMP:20260424T202053
CREATED:20231127T155521Z
LAST-MODIFIED:20231127T155521Z
UID:20830-1701734400-1701820799@www.iomp.org
SUMMARY:Symposium on Adaptive Radiotherapy
DESCRIPTION:Symposium on Adaptive Radiotherapy\nDate: Dec 5th\, 2023   \nVenue: German Cancer Research Center (DKFZ)\, Heidelberg /Germany
URL:https://www.iomp.org/event/symposium-on-adaptive-radiotherapy/
LOCATION:German Cancer Research Center (DKFZ)\, Heidelberg\, Germany
END:VEVENT
BEGIN:VEVENT
DTSTART;TZID=UTC:20231127T080000
DTEND;TZID=UTC:20231127T170000
DTSTAMP:20260424T202053
CREATED:20231127T160215Z
LAST-MODIFIED:20231127T161209Z
UID:20842-1701072000-1701104400@www.iomp.org
SUMMARY:Breathing Control for Motion Management in Radiotherapy and Imaging
DESCRIPTION:Breathing control for motion management in radiotherapy and imaging\nMar 15th\, 2024 – Mar 16th\, 2024   \nAmsterdam\, The Netherlands
URL:https://www.iomp.org/event/20842/
LOCATION:Amsterdam University Medical Centre\, Netherlands
END:VEVENT
BEGIN:VEVENT
DTSTART;VALUE=DATE:20231107
DTEND;VALUE=DATE:20231108
DTSTAMP:20260424T202053
CREATED:20231127T150536Z
LAST-MODIFIED:20231127T150639Z
UID:20774-1699315200-1699401599@www.iomp.org
SUMMARY:IDMP 2023
DESCRIPTION:IDMP 2023 Message by the IDMP Coordinator\n \nDear Medical Physicists across the Globe\, \n\nThe theme for the International Day of Medical Physics in IDMP 2023 is\, “60th Anniversary: Standing on the Shoulders of Giants“. This reflects the celebration of a significant milestone in the field of medical physics. To understand this theme more deeply\, let’s break it down: \n60th Anniversary: This part of the theme marks a remarkable milestone. It signifies that the Medical Physics has been extensively developed over the past 60 years. IDMP is observed globally to raise awareness about the importance of medical physics in healthcare\, and its role in the diagnosis and treatment of diseases. Over these six decades\, the field has seen remarkable progress and contributions to medical science. \nStanding on the Shoulders of Giants: This emphasis that the advancements and achievements in the Medical Physics field are built upon the knowledge and work of those who came before. It acknowledges the foundational contributions of the pioneers and experts who have made significant contributions to the field. These individuals are the “giants” on whose “shoulders” the current generation of medical physicists stands. \nBy adopting this theme\, the IDMP 2023 recognizes the rich history and evolution of medical physics\, honoring the legacy of those who have paved the way for modern developments. It also underscores the importance of continued progress\, research\, and innovation in the field to improve healthcare outcomes and enhance patient care. \nThis theme serves as an opportunity to reflect on the journey of medical physics\, express gratitude to those who have made significant contributions\, and inspire the current generation to carry the torch forward. It highlights the collaborative nature of scientific and medical advancements and encourages the global medical physics community to embrace their role in shaping the future of healthcare. \nI wish all my colleagues around the World a Happy Medical Physics Day. Enjoy the celebrations of this day and make sure as a Medical Physicist to keep on going! \nIbrahim Duhaini\, PhD\, FIOMP\, DIMPCB \n\nIDMP Coordinator \n  \nFor more info on IDMP 2023\, please visit: https://iomp.org/idmp-2023/
URL:https://www.iomp.org/event/idmp-2023/
CATEGORIES:IDMP 2023
END:VEVENT
BEGIN:VEVENT
DTSTART;TZID=UTC:20230603T080000
DTEND;TZID=UTC:20230608T170000
DTSTAMP:20260424T202053
CREATED:20231127T094435Z
LAST-MODIFIED:20231127T095306Z
UID:20751-1685779200-1686243600@www.iomp.org
SUMMARY:ISMRM & ISMRT Annual Meeting & Exhibition
DESCRIPTION:ISMRM & ISMRT Annual Meeting & Exhibition \nWhen:               Jun 3 – 8\, 2023 \nWhere:             Toronto\, ON\, Canada
URL:https://www.iomp.org/event/ismrm-ismrt-annual-meeting-exhibition/
LOCATION:Metro Toronto Convention Centre (MTCC)\, Toronto\, Canada
END:VEVENT
BEGIN:VEVENT
DTSTART;VALUE=DATE:20230424
DTEND;VALUE=DATE:20230429
DTSTAMP:20260424T202053
CREATED:20230407T193423Z
LAST-MODIFIED:20231125T105302Z
UID:14334-1682294400-1682726399@www.iomp.org
SUMMARY:IMPW 2023 (24-28 April 2023)
DESCRIPTION:Dear colleagues\, \nWe celebrate the International Medical Physics Week (IMPW) in April 2023\, from Monday 24 to Friday 28. IMPW is a great opportunity for medical physics scientific and professional societies to organize events to make \n\nhealthcare professionals and the public understand the clinical role of medical physicists and the reasons why we are essential to hospitals.\nundergraduate physics students recognize the medical physics career path.\nhealthcare authorities and hospital boards understand what can go wrong without a medical physicist. Do they know\, for example\, that without clinically qualified medical physicists\, certain medical procedures can lead to serious incidents and accidents?\n\nAs in previous years\, IOMP organizes a series of webinars during the Week. In a world in which information instantly crosses borders\, learning new methods\, policies\, and activities is critical for the success of our profession. All webinars will be freely available so anyone can register and benefit from the expertise of invited speakers. The recorded webinars are going to be uploaded on IOMP’s website for those who are not able to watch them live. \nIOMP regional organizations (ROs) and national member organizations (NMOs) are encouraged to organize activities that will result in the promotion of the subject of medical physics globally. Based on the success of IMPW\, it may be expected that the number of activities associated with this event each year will increase\, contributing to greater international understanding of the role of medical physics and medical physicists in healthcare. \nIt is my privilege to celebrate the IMPW 2023 with you. \nHappy IMPW! \nJohn Damilakis\,\nPresident\, IOMP \n\n\n\n\n\n\n\n\n\n \nDear Colleagues\, \nIt is with excitement to be celebrating another International Medical Physics Week in 2023 – the year when IOMP will celebrate its 60th Anniversary. The 60 years of IOMP have been characterized by the growth of medical physics profession internationally not only in numbers\, but also in gaining recognition as a profession that significantly contributes to advancement of medical sciences and the associated technologies. \nWe hope that our webinar offerings will nicely complement your other local and/or national celebration of medical physics profession\, allowing you to meet and greet your international colleagues online and to learn more about interesting topics and the latest advancements in our fields. \nWe encourage you to participate in all topics presented\, including those that may not be your primary area of expertise\, to broaden your knowledge of current medical physics research\, technical developments\, clinical activities and even professional issues related to education and certification of medical physicists internationally. \nOur webinars allow you to connect and be part of this large collegial community – even if the medical physics numbers in your country may be on the smaller side. You can reach out and discuss your questions with the experts in the field and also earn CPD/CME points for each webinar attended in full. \nWe are aiming to offer a webinar program of excellent educational and inspirational value \nLooking forward to seeing you online in April. \nHappy IMPW \nEva Bezak\nVice President\, IOMP
URL:https://www.iomp.org/event/impw-2023/
CATEGORIES:IMPW 2023
ATTACH;FMTTYPE=image/jpeg:https://www.iomp.org/wp-content/uploads/2023/04/IMPW-2023-1.jpg
END:VEVENT
END:VCALENDAR