BEGIN:VCALENDAR
VERSION:2.0
PRODID:-//International Organization for Medical Physics - ECPv6.15.20//NONSGML v1.0//EN
CALSCALE:GREGORIAN
METHOD:PUBLISH
X-ORIGINAL-URL:https://www.iomp.org
X-WR-CALDESC:Events for International Organization for Medical Physics
REFRESH-INTERVAL;VALUE=DURATION:PT1H
X-Robots-Tag:noindex
X-PUBLISHED-TTL:PT1H
BEGIN:VTIMEZONE
TZID:UTC
BEGIN:STANDARD
TZOFFSETFROM:+0000
TZOFFSETTO:+0000
TZNAME:UTC
DTSTART:20230101T000000
END:STANDARD
END:VTIMEZONE
BEGIN:VTIMEZONE
TZID:Pacific/Auckland
BEGIN:STANDARD
TZOFFSETFROM:+1300
TZOFFSETTO:+1200
TZNAME:NZST
DTSTART:20240406T140000
END:STANDARD
BEGIN:DAYLIGHT
TZOFFSETFROM:+1200
TZOFFSETTO:+1300
TZNAME:NZDT
DTSTART:20240928T140000
END:DAYLIGHT
BEGIN:STANDARD
TZOFFSETFROM:+1300
TZOFFSETTO:+1200
TZNAME:NZST
DTSTART:20250405T140000
END:STANDARD
BEGIN:DAYLIGHT
TZOFFSETFROM:+1200
TZOFFSETTO:+1300
TZNAME:NZDT
DTSTART:20250927T140000
END:DAYLIGHT
BEGIN:STANDARD
TZOFFSETFROM:+1300
TZOFFSETTO:+1200
TZNAME:NZST
DTSTART:20260404T140000
END:STANDARD
BEGIN:DAYLIGHT
TZOFFSETFROM:+1200
TZOFFSETTO:+1300
TZNAME:NZDT
DTSTART:20260926T140000
END:DAYLIGHT
END:VTIMEZONE
BEGIN:VEVENT
DTSTART;VALUE=DATE:20240909
DTEND;VALUE=DATE:20240928
DTSTAMP:20260424T154159
CREATED:20231211T101719Z
LAST-MODIFIED:20231211T101719Z
UID:21010-1725840000-1727481599@www.iomp.org
SUMMARY:College on Medical Physics | (smr 3967)
DESCRIPTION:Date: 9-27 Sep 2024\n\n\n\nVenue: Giambiagi Lecture Hall (AGH)\, Strada Costiera\, 11 I – 34151 Trieste (Italy)\n\n\nOrganizer(s): Luciano Bertocchi (ICTP\, Trieste)\, Franco Milano (University of Florence\, Italy)\, John Oshinski (Emory University School of Medicine\, Atlanta\, USA)\, Renato Padovani (ICTP Trieste)\, Bregant Paola (Azienda Sanitaria Universitaria Giuliano Isontina (ASU GI)\, Trieste)\, Perry Sprawls (Emory University\, Atlanta\, USA)\, Magdalena Stoeva (Medical University Plovdiv\, Bulgaria & IOMP)\, Slavik Tabakov (King”s College London\, UK & IUPESM)\, Sameer Tipnis (Medical University of South Carolina\, USA)\n\nLocal Organiser: Renato Padovani (ICTP)SecretaryMonica Petronela Ancuta\, Viktoriya Lvova\, Adriana Pinto
URL:https://www.iomp.org/event/college-on-medical-physics-smr-3967/
LOCATION:ICTP\, Italy
END:VEVENT
BEGIN:VEVENT
DTSTART;VALUE=DATE:20240911
DTEND;VALUE=DATE:20240915
DTSTAMP:20260424T154159
CREATED:20231127T160635Z
LAST-MODIFIED:20231127T160647Z
UID:20850-1726012800-1726358399@www.iomp.org
SUMMARY:5th European Congress for Medical Physics
DESCRIPTION:5th European Congress for Medical Physics\nSep 11th\, 2024 – Sep 14th\, 2024    \nMunich\, Germany
URL:https://www.iomp.org/event/5th-european-congress-for-medical-physics/
LOCATION:Munich\, Germany
END:VEVENT
BEGIN:VEVENT
DTSTART;VALUE=DATE:20240929
DTEND;VALUE=DATE:20241003
DTSTAMP:20260424T154159
CREATED:20231127T154121Z
LAST-MODIFIED:20231127T154121Z
UID:20809-1727568000-1727913599@www.iomp.org
SUMMARY:2024 ASTRO Annual Meeting
DESCRIPTION:Date: September 29 – October 2\, 2024 \nWalter E. Washington Convention Center\, Washington\, D.C.  |  Virtual \nMark your calendar now to attend the 66th ASTRO Annual Meeting\, being held in the nation’s capital\, Washington\, DC\, September 29 – October 2\, 2024! The Annual Meeting program offers the top science and education related to the field of radiation oncology. \nThe meeting’s theme\, “Targeting Provider Wellness for Exceptional Patient Care\,” takes a step in a direction that is often overlooked in the daily rush. Provider wellness is an important aspect that deserves equal playtime and consideration. Being well\, treating your physical and mental health as a priority\, and living to achieve work-life balance — all go a long way toward helping us to serve as a role model for our patients. During the meeting\, we will highlight various aspects of provider wellness and correlate how that impacts patient care. \nThe 2024 Annual Meeting Call for Education Sessions is open through Monday\, January 8\, 2024. The Call for Abstracts will open on January 5\, 2024. Registration and housing for the ASTRO 2024 will open in May 2024.
URL:https://www.iomp.org/event/2024-astro-annual-meeting/
LOCATION:Walter E. Washington Convention Center\, Washington\, United States
END:VEVENT
BEGIN:VEVENT
DTSTART;VALUE=DATE:20241002
DTEND;VALUE=DATE:20241006
DTSTAMP:20260424T154159
CREATED:20231127T154436Z
LAST-MODIFIED:20231127T154947Z
UID:20814-1727827200-1728172799@www.iomp.org
SUMMARY:ESMRMB 2024 Congress
DESCRIPTION:ESMRMB 2024 Congress\nDate: October 2-5\, 2024 \nVenue: Barcelona \nCPC Chair: Dr José Marques\, PhD\, Radboud University Nijmegen\, the Netherlands\nLOC Chair: Prof Dr Kai Vilanova\, MD/PhD\, University of Girona\, Spain
URL:https://www.iomp.org/event/esmrmb-2024-congress/
LOCATION:Barcelona\, Spain
END:VEVENT
BEGIN:VEVENT
DTSTART;VALUE=DATE:20241010
DTEND;VALUE=DATE:20241014
DTSTAMP:20260424T154159
CREATED:20231127T153515Z
LAST-MODIFIED:20231127T153614Z
UID:20799-1728518400-1728863999@www.iomp.org
SUMMARY:AOCMP-SEACOMP 2024
DESCRIPTION:24th Asia-Oceania Congress of Medical Physics (AOCMP) & 22nd Southeast Asia Congress of Medical Physics (SEACOMP)\n\nTheme: Revolutionising Patient Care through Medical Physics \nDate: 10 – 13 October 2024 \n\nVenue: The Wembley – A St Giles Hotel\, Penang\, Malaysia
URL:https://www.iomp.org/event/aocmp-seacomp-2024/
LOCATION:The Wembley – A St Giles Hotel\, Malaysia
END:VEVENT
BEGIN:VEVENT
DTSTART;VALUE=DATE:20241028
DTEND;VALUE=DATE:20241030
DTSTAMP:20260424T154159
CREATED:20231127T160830Z
LAST-MODIFIED:20231127T160952Z
UID:20855-1730073600-1730246399@www.iomp.org
SUMMARY:4th European Congress on Cancer and Oncology Research
DESCRIPTION:4th European Congress on Cancer and Oncology Research\nOct 28th\, 2024 – Oct 29th\, 2024   \nRome\, Italy
URL:https://www.iomp.org/event/20855/
LOCATION:Rome\, Italy
END:VEVENT
BEGIN:VEVENT
DTSTART;VALUE=DATE:20241201
DTEND;VALUE=DATE:20241206
DTSTAMP:20260424T154159
CREATED:20231127T154659Z
LAST-MODIFIED:20231127T154659Z
UID:20818-1733011200-1733443199@www.iomp.org
SUMMARY:RSNA Annual Meeting 2024
DESCRIPTION:RSNA Annual Meeting 2024\nDate: December 1-5\, 2024 \nVenue: McCormick Place\, Chicago\, Illinois
URL:https://www.iomp.org/event/rsna-annual-meeting-2024/
LOCATION:McCormick Place\, Chicago\, United States
END:VEVENT
BEGIN:VEVENT
DTSTART;TZID=UTC:20250307T120000
DTEND;TZID=UTC:20250307T130000
DTSTAMP:20260424T154159
CREATED:20250222T062505Z
LAST-MODIFIED:20250222T062505Z
UID:23005-1741348800-1741352400@www.iomp.org
SUMMARY:International Women’s Day with Medical Physics Professionals Across the Continents
DESCRIPTION:7 March 2025 at 12 pm GMT; Duration 1 hour \nTo check the corresponding time in your country please check this link: https://greenwichmeantime.com/time-gadgets/time-zone-converter/ \nUpdate: 1 CPD/CME point is applied to this event.  \nRegister here \nOrganizer: Loredana Marcu\nModerators: Loredana Marcu and Eva Bezak \nSpeakers: Jennifer Pursley\, Chai Hong Yeong\, Oleksandra Ivashchenko
URL:https://www.iomp.org/event/international-womens-day-with-medical-physics-professionals-across-the-continents/
END:VEVENT
BEGIN:VEVENT
DTSTART;TZID=Pacific/Auckland:20250505T120000
DTEND;TZID=Pacific/Auckland:20250509T130000
DTSTAMP:20260424T154159
CREATED:20250222T062716Z
LAST-MODIFIED:20250222T062848Z
UID:23007-1746446400-1746795600@www.iomp.org
SUMMARY:IMPW 2025 IOMP Webinars: Medical Physics Applications of AI
DESCRIPTION:International Medical Physics Week (IMPW) 2025
URL:https://www.iomp.org/event/impw-2025-iomp-webinars-medical-physics-applications-of-ai/
END:VEVENT
END:VCALENDAR